Package: MSstats Version: 4.17.1 Command: rm -rf MSstats.buildbin-libdir && mkdir MSstats.buildbin-libdir && /Users/biocbuild/BBS/utils/build-universal.sh MSstats_4.17.1.tar.gz /Library/Frameworks/R.framework/Resources/bin/R MSstats.buildbin-libdir StartedAt: 2025-09-30 22:48:09 -0400 (Tue, 30 Sep 2025) EndedAt: 2025-09-30 22:48:23 -0400 (Tue, 30 Sep 2025) EllapsedTime: 14.3 seconds RetCode: 0 Status: OK PackageFile: MSstats_4.17.1.tgz PackageFileSize: 962.1 KiB