Package: MSstats Version: 4.17.2 Maintainer: Meena Choi MaintainerEmail: mnchoi67 at gmail.com git_url: https://git.bioconductor.org/packages/MSstats git_branch: devel git_last_commit: f3ab58f git_last_commit_date: 2025-10-16 03:07:39 -0400 (Thu, 16 Oct 2025)