Package: MSnbase Version: 2.35.2 Command: /home/biocbuild/R/R/bin/R CMD INSTALL MSnbase StartedAt: 2025-10-13 21:14:31 -0000 (Mon, 13 Oct 2025) EndedAt: 2025-10-13 21:16:08 -0000 (Mon, 13 Oct 2025) EllapsedTime: 97.1 seconds RetCode: 0 Status: OK