Package: MSnbase Version: 2.35.2 Command: /home/biocbuild/R/R/bin/R CMD build --keep-empty-dirs --no-resave-data MSnbase StartedAt: 2025-10-14 02:02:43 -0000 (Tue, 14 Oct 2025) EndedAt: 2025-10-14 02:07:08 -0000 (Tue, 14 Oct 2025) EllapsedTime: 265.1 seconds RetCode: 0 Status: OK PackageFile: MSnbase_2.35.2.tar.gz PackageFileSize: 6.195 MiB