Package: MSnbase Version: 2.35.2 Command: /home/biocbuild/bbs-3.22-bioc/R/bin/R CMD check --install=check:MSnbase.install-out.txt --library=/home/biocbuild/bbs-3.22-bioc/R/site-library --timings MSnbase_2.35.2.tar.gz StartedAt: 2025-10-10 02:07:40 -0400 (Fri, 10 Oct 2025) EndedAt: 2025-10-10 02:27:54 -0400 (Fri, 10 Oct 2025) EllapsedTime: 1214.6 seconds RetCode: 0 Status: OK CheckDir: MSnbase.Rcheck Warnings: 0