Package: MSnbase Version: 2.37.0 Command: /home/biocbuild/bbs-3.23-bioc/R/bin/R CMD INSTALL MSnbase StartedAt: 2025-11-06 15:34:57 -0500 (Thu, 06 Nov 2025) EndedAt: 2025-11-06 15:36:11 -0500 (Thu, 06 Nov 2025) EllapsedTime: 74.8 seconds RetCode: 0 Status: OK