Package: MSnbase Version: 2.37.0 Command: /home/biocbuild/bbs-3.23-bioc/R/bin/R CMD check --install=check:MSnbase.install-out.txt --library=/home/biocbuild/bbs-3.23-bioc/R/site-library --timings MSnbase_2.37.0.tar.gz StartedAt: 2025-11-15 01:53:05 -0500 (Sat, 15 Nov 2025) EndedAt: 2025-11-15 02:12:01 -0500 (Sat, 15 Nov 2025) EllapsedTime: 1136.7 seconds RetCode: 0 Status: OK CheckDir: MSnbase.Rcheck Warnings: 0