Package: MSnbase Version: 2.37.0 Command: /home/biocbuild/bbs-3.23-bioc/R/bin/R CMD build --keep-empty-dirs --no-resave-data MSnbase StartedAt: 2025-11-06 18:47:30 -0500 (Thu, 06 Nov 2025) EndedAt: 2025-11-06 18:50:34 -0500 (Thu, 06 Nov 2025) EllapsedTime: 184.2 seconds RetCode: 0 Status: OK PackageFile: MSnbase_2.37.0.tar.gz PackageFileSize: 7.616 MiB