Package: MSnID Version: 1.45.0 Command: /Library/Frameworks/R.framework/Resources/bin/R CMD INSTALL MSnID StartedAt: 2025-11-24 15:22:42 -0500 (Mon, 24 Nov 2025) EndedAt: 2025-11-24 15:23:01 -0500 (Mon, 24 Nov 2025) EllapsedTime: 19.2 seconds RetCode: 0 Status: OK