Package: MSnID Version: 1.45.0 Command: /Library/Frameworks/R.framework/Resources/bin/R CMD build --keep-empty-dirs --no-resave-data MSnID StartedAt: 2025-11-24 17:12:50 -0500 (Mon, 24 Nov 2025) EndedAt: 2025-11-24 17:13:47 -0500 (Mon, 24 Nov 2025) EllapsedTime: 56.6 seconds RetCode: 0 Status: OK PackageFile: MSnID_1.45.0.tar.gz PackageFileSize: 3.003 MiB