Package: MSnID Version: 1.45.0 Command: rm -rf MSnID.buildbin-libdir && mkdir MSnID.buildbin-libdir && /Users/biocbuild/BBS/utils/build-universal.sh MSnID_1.45.0.tar.gz /Library/Frameworks/R.framework/Resources/bin/R MSnID.buildbin-libdir StartedAt: 2025-11-24 23:50:21 -0500 (Mon, 24 Nov 2025) EndedAt: 2025-11-24 23:50:44 -0500 (Mon, 24 Nov 2025) EllapsedTime: 23.4 seconds RetCode: 0 Status: OK PackageFile: MSnID_1.45.0.tgz PackageFileSize: 4.107 MiB