Package: MSPrep Version: 1.19.0 Command: /home/biocbuild/R/R/bin/R CMD INSTALL MSPrep StartedAt: 2025-10-23 21:24:34 -0000 (Thu, 23 Oct 2025) EndedAt: 2025-10-23 21:25:17 -0000 (Thu, 23 Oct 2025) EllapsedTime: 43.4 seconds RetCode: 0 Status: OK