Package: MSPrep Version: 1.19.0 Command: /home/biocbuild/R/R/bin/R CMD build --keep-empty-dirs --no-resave-data MSPrep StartedAt: 2025-10-21 01:33:29 -0000 (Tue, 21 Oct 2025) EndedAt: 2025-10-21 01:36:48 -0000 (Tue, 21 Oct 2025) EllapsedTime: 199.1 seconds RetCode: 0 Status: OK PackageFile: MSPrep_1.19.0.tar.gz PackageFileSize: 1.641 MiB