Package: MSPrep Version: 1.19.0 Command: /home/biocbuild/bbs-3.22-bioc/R/bin/R CMD check --install=check:MSPrep.install-out.txt --library=/home/biocbuild/bbs-3.22-bioc/R/site-library --timings MSPrep_1.19.0.tar.gz StartedAt: 2025-10-16 02:42:04 -0400 (Thu, 16 Oct 2025) EndedAt: 2025-10-16 02:52:20 -0400 (Thu, 16 Oct 2025) EllapsedTime: 615.7 seconds RetCode: 0 Status: OK CheckDir: MSPrep.Rcheck Warnings: 0