Package: MSPrep Version: 1.21.0 Command: /home/biocbuild/bbs-3.23-bioc/R/bin/R CMD build --keep-empty-dirs --no-resave-data MSPrep StartedAt: 2025-11-20 18:53:10 -0500 (Thu, 20 Nov 2025) EndedAt: 2025-11-20 18:55:20 -0500 (Thu, 20 Nov 2025) EllapsedTime: 130.2 seconds RetCode: 0 Status: OK PackageFile: MSPrep_1.21.0.tar.gz PackageFileSize: 1.575 MiB