Package: MSPrep Version: 1.19.0 Maintainer: Max McGrath MaintainerEmail: max.mcgrath at ucdenver.edu git_url: https://git.bioconductor.org/packages/MSPrep git_branch: devel git_last_commit: 1d38ba2 git_last_commit_date: 2025-04-15 12:10:24 -0400 (Tue, 15 Apr 2025)