Package: MSA2dist Version: 1.13.0 Command: /home/biocbuild/R/R/bin/R CMD INSTALL MSA2dist StartedAt: 2025-10-13 21:37:47 -0000 (Mon, 13 Oct 2025) EndedAt: 2025-10-13 21:39:34 -0000 (Mon, 13 Oct 2025) EllapsedTime: 107.3 seconds RetCode: 0 Status: OK