Package: MSA2dist Version: 1.15.0 Command: /home/biocbuild/bbs-3.23-bioc/R/bin/R CMD INSTALL MSA2dist StartedAt: 2025-11-05 15:57:24 -0500 (Wed, 05 Nov 2025) EndedAt: 2025-11-05 15:58:30 -0500 (Wed, 05 Nov 2025) EllapsedTime: 66.2 seconds RetCode: 0 Status: OK