Package: MSA2dist Version: 1.15.0 Command: /home/biocbuild/bbs-3.23-bioc/R/bin/R CMD check --install=check:MSA2dist.install-out.txt --library=/home/biocbuild/bbs-3.23-bioc/R/site-library --timings MSA2dist_1.15.0.tar.gz StartedAt: 2025-11-15 01:49:11 -0500 (Sat, 15 Nov 2025) EndedAt: 2025-11-15 01:54:16 -0500 (Sat, 15 Nov 2025) EllapsedTime: 304.5 seconds RetCode: 0 Status: OK CheckDir: MSA2dist.Rcheck Warnings: 0