Package: MSA2dist Version: 1.15.0 Command: /home/biocbuild/bbs-3.23-bioc/R/bin/R CMD build --keep-empty-dirs --no-resave-data MSA2dist StartedAt: 2025-11-04 18:45:25 -0500 (Tue, 04 Nov 2025) EndedAt: 2025-11-04 18:46:52 -0500 (Tue, 04 Nov 2025) EllapsedTime: 87.1 seconds RetCode: 0 Status: OK PackageFile: MSA2dist_1.15.0.tar.gz PackageFileSize: 978.8 KiB