Package: MPRAnalyze Version: 1.27.0 Command: /Library/Frameworks/R.framework/Resources/bin/R CMD INSTALL MPRAnalyze StartedAt: 2025-10-09 15:23:01 -0400 (Thu, 09 Oct 2025) EndedAt: 2025-10-09 15:23:35 -0400 (Thu, 09 Oct 2025) EllapsedTime: 33.3 seconds RetCode: 0 Status: OK