Package: MPRAnalyze Version: 1.27.0 Command: rm -rf MPRAnalyze.buildbin-libdir && mkdir MPRAnalyze.buildbin-libdir && /Users/biocbuild/BBS/utils/build-universal.sh MPRAnalyze_1.27.0.tar.gz /Library/Frameworks/R.framework/Resources/bin/R MPRAnalyze.buildbin-libdir StartedAt: 2025-10-11 02:40:50 -0400 (Sat, 11 Oct 2025) EndedAt: 2025-10-11 02:41:25 -0400 (Sat, 11 Oct 2025) EllapsedTime: 34.6 seconds RetCode: 0 Status: OK PackageFile: MPRAnalyze_1.27.0.tgz PackageFileSize: 637.5 KiB