Package: MPFE Version: 1.47.0 Command: /home/biocbuild/bbs-3.23-bioc/R/bin/R CMD build --keep-empty-dirs --no-resave-data MPFE StartedAt: 2025-11-20 18:50:13 -0500 (Thu, 20 Nov 2025) EndedAt: 2025-11-20 18:50:18 -0500 (Thu, 20 Nov 2025) EllapsedTime: 5.0 seconds RetCode: 0 Status: OK PackageFile: MPFE_1.47.0.tar.gz PackageFileSize: 191.1 KiB