Package: MPFE Version: 1.45.0 Command: /Library/Frameworks/R.framework/Resources/bin/R CMD INSTALL MPFE StartedAt: 2025-10-14 15:04:54 -0400 (Tue, 14 Oct 2025) EndedAt: 2025-10-14 15:05:14 -0400 (Tue, 14 Oct 2025) EllapsedTime: 20.3 seconds RetCode: 0 Status: OK