Package: MPFE Version: 1.45.0 Command: rm -rf MPFE.buildbin-libdir && mkdir MPFE.buildbin-libdir && /Users/biocbuild/BBS/utils/build-universal.sh MPFE_1.45.0.tar.gz /Library/Frameworks/R.framework/Resources/bin/R MPFE.buildbin-libdir StartedAt: 2025-10-16 03:04:25 -0400 (Thu, 16 Oct 2025) EndedAt: 2025-10-16 03:04:30 -0400 (Thu, 16 Oct 2025) EllapsedTime: 4.6 seconds RetCode: 0 Status: OK PackageFile: MPFE_1.45.0.tgz PackageFileSize: 216.6 KiB