Package: MPFE Version: 1.45.0 Command: /Library/Frameworks/R.framework/Resources/bin/R CMD INSTALL MPFE StartedAt: 2025-09-29 15:01:15 -0400 (Mon, 29 Sep 2025) EndedAt: 2025-09-29 15:01:17 -0400 (Mon, 29 Sep 2025) EllapsedTime: 1.5 seconds RetCode: 0 Status: OK