Package: MPFE Version: 1.45.0 Command: /Library/Frameworks/R.framework/Resources/bin/R CMD build --keep-empty-dirs --no-resave-data MPFE StartedAt: 2025-09-29 17:05:40 -0400 (Mon, 29 Sep 2025) EndedAt: 2025-09-29 17:05:43 -0400 (Mon, 29 Sep 2025) EllapsedTime: 3.0 seconds RetCode: 0 Status: OK PackageFile: MPFE_1.45.0.tar.gz PackageFileSize: 191.4 KiB