Package: MPFE Version: 1.45.0 Command: rm -rf MPFE.buildbin-libdir && mkdir MPFE.buildbin-libdir && /Users/biocbuild/BBS/utils/build-universal.sh MPFE_1.45.0.tar.gz /Library/Frameworks/R.framework/Resources/bin/R MPFE.buildbin-libdir StartedAt: 2025-09-29 22:43:30 -0400 (Mon, 29 Sep 2025) EndedAt: 2025-09-29 22:43:31 -0400 (Mon, 29 Sep 2025) EllapsedTime: 1.0 seconds RetCode: 0 Status: OK PackageFile: MPFE_1.45.0.tgz PackageFileSize: 217.6 KiB