Package: MPFE Version: 1.46.0 Maintainer: Conrad Burden MaintainerEmail: conrad.burden at anu.edu.au git_url: https://git.bioconductor.org/packages/MPFE git_branch: RELEASE_3_22 git_last_commit: d80a98f git_last_commit_date: 2025-10-29 10:20:48 -0400 (Wed, 29 Oct 2025)