Package: MPAC Version: 1.5.0 Command: /home/biocbuild/bbs-3.23-bioc/R/bin/R CMD INSTALL MPAC StartedAt: 2025-11-06 15:53:14 -0500 (Thu, 06 Nov 2025) EndedAt: 2025-11-06 15:53:47 -0500 (Thu, 06 Nov 2025) EllapsedTime: 32.6 seconds RetCode: 0 Status: OK