Package: MPAC Version: 1.3.1 Command: /Library/Frameworks/R.framework/Resources/bin/R CMD INSTALL MPAC StartedAt: 2025-10-14 15:49:40 -0400 (Tue, 14 Oct 2025) EndedAt: 2025-10-14 15:50:27 -0400 (Tue, 14 Oct 2025) EllapsedTime: 47.1 seconds RetCode: 0 Status: OK