Package: MPAC Version: 1.3.1 Command: rm -rf MPAC.buildbin-libdir && mkdir MPAC.buildbin-libdir && /Users/biocbuild/BBS/utils/build-universal.sh MPAC_1.3.1.tar.gz /Library/Frameworks/R.framework/Resources/bin/R MPAC.buildbin-libdir StartedAt: 2025-10-15 02:55:36 -0400 (Wed, 15 Oct 2025) EndedAt: 2025-10-15 02:56:26 -0400 (Wed, 15 Oct 2025) EllapsedTime: 49.8 seconds RetCode: 0 Status: OK PackageFile: MPAC_1.3.1.tgz PackageFileSize: 860.4 KiB