Package: MPAC Version: 1.3.1 Command: /Library/Frameworks/R.framework/Resources/bin/R CMD INSTALL MPAC StartedAt: 2025-10-06 15:28:57 -0400 (Mon, 06 Oct 2025) EndedAt: 2025-10-06 15:29:11 -0400 (Mon, 06 Oct 2025) EllapsedTime: 14.3 seconds RetCode: 0 Status: OK