Package: MPAC Version: 1.3.1 Command: /Library/Frameworks/R.framework/Resources/bin/R CMD build --keep-empty-dirs --no-resave-data MPAC StartedAt: 2025-10-06 17:07:40 -0400 (Mon, 06 Oct 2025) EndedAt: 2025-10-06 17:08:10 -0400 (Mon, 06 Oct 2025) EllapsedTime: 29.3 seconds RetCode: 0 Status: OK PackageFile: MPAC_1.3.1.tar.gz PackageFileSize: 832.5 KiB