Package: MPAC Version: 1.3.1 Maintainer: Peng Liu MaintainerEmail: pliu55.wisc+bioconductor at gmail.com git_url: https://git.bioconductor.org/packages/MPAC git_branch: devel git_last_commit: 8834db5 git_last_commit_date: 2025-10-05 17:03:24 -0400 (Sun, 05 Oct 2025)