Package: MOSim Version: 2.5.0 Command: /home/biocbuild/R/R/bin/R CMD INSTALL MOSim StartedAt: 2025-10-06 21:18:19 -0000 (Mon, 06 Oct 2025) EndedAt: 2025-10-06 21:19:19 -0000 (Mon, 06 Oct 2025) EllapsedTime: 59.6 seconds RetCode: 0 Status: OK