Package: MOSim Version: 2.5.0 Command: /home/biocbuild/R/R/bin/R CMD build --keep-empty-dirs --no-resave-data MOSim StartedAt: 2025-10-07 01:16:40 -0000 (Tue, 07 Oct 2025) EndedAt: 2025-10-07 01:26:47 -0000 (Tue, 07 Oct 2025) EllapsedTime: 607.2 seconds RetCode: 0 Status: OK PackageFile: MOSim_2.5.0.tar.gz PackageFileSize: 6.408 MiB