Package: MOSim Version: 2.7.0 Command: /home/biocbuild/bbs-3.23-bioc/R/bin/R CMD INSTALL MOSim StartedAt: 2025-11-20 15:53:48 -0500 (Thu, 20 Nov 2025) EndedAt: 2025-11-20 15:54:32 -0500 (Thu, 20 Nov 2025) EllapsedTime: 43.8 seconds RetCode: 0 Status: OK