Package: MOSim Version: 2.7.0 Command: /home/biocbuild/bbs-3.23-bioc/R/bin/R CMD check --install=check:MOSim.install-out.txt --library=/home/biocbuild/bbs-3.23-bioc/R/site-library --timings MOSim_2.7.0.tar.gz StartedAt: 2025-11-21 01:39:11 -0500 (Fri, 21 Nov 2025) EndedAt: 2025-11-21 01:57:42 -0500 (Fri, 21 Nov 2025) EllapsedTime: 1111.4 seconds RetCode: 0 Status: WARNINGS CheckDir: MOSim.Rcheck Warnings: 1