Package: MOSClip Version: 1.3.2 Command: rm -rf MOSClip.buildbin-libdir && mkdir MOSClip.buildbin-libdir && F:\biocbuild\bbs-3.22-bioc\R\bin\R.exe CMD INSTALL --build --library=MOSClip.buildbin-libdir MOSClip_1.3.2.tar.gz StartedAt: 2025-08-15 10:44:52 -0400 (Fri, 15 Aug 2025) EndedAt: 2025-08-15 10:46:16 -0400 (Fri, 15 Aug 2025) EllapsedTime: 83.6 seconds RetCode: 0 Status: OK PackageFile: MOSClip_1.3.2.zip PackageFileSize: 1.546 MiB