Package: MOSClip Version: 1.5.0 Command: /home/biocbuild/bbs-3.23-bioc/R/bin/R CMD check --install=check:MOSClip.install-out.txt --library=/home/biocbuild/bbs-3.23-bioc/R/site-library --timings MOSClip_1.5.0.tar.gz StartedAt: 2025-11-06 01:34:14 -0500 (Thu, 06 Nov 2025) EndedAt: 2025-11-06 01:42:36 -0500 (Thu, 06 Nov 2025) EllapsedTime: 501.6 seconds RetCode: 0 Status: OK CheckDir: MOSClip.Rcheck Warnings: 0