Package: MOMA Version: 1.23.0 Command: /home/biocbuild/bbs-3.23-bioc/R/bin/R CMD INSTALL MOMA StartedAt: 2025-11-20 15:20:03 -0500 (Thu, 20 Nov 2025) EndedAt: 2025-11-20 15:20:37 -0500 (Thu, 20 Nov 2025) EllapsedTime: 34.0 seconds RetCode: 0 Status: OK