Package: MOMA Version: 1.23.0 Command: /home/biocbuild/bbs-3.23-bioc/R/bin/R CMD build --keep-empty-dirs --no-resave-data MOMA StartedAt: 2025-11-20 18:46:18 -0500 (Thu, 20 Nov 2025) EndedAt: 2025-11-20 18:48:17 -0500 (Thu, 20 Nov 2025) EllapsedTime: 119.1 seconds RetCode: 0 Status: OK PackageFile: MOMA_1.23.0.tar.gz PackageFileSize: 4.29 MiB