Package: MOMA Version: 1.21.0 Command: /Library/Frameworks/R.framework/Resources/bin/R CMD INSTALL MOMA StartedAt: 2025-10-15 15:21:30 -0400 (Wed, 15 Oct 2025) EndedAt: 2025-10-15 15:22:18 -0400 (Wed, 15 Oct 2025) EllapsedTime: 48.4 seconds RetCode: 0 Status: OK