Package: MOMA Version: 1.21.0 Command: /Library/Frameworks/R.framework/Resources/bin/R CMD build --keep-empty-dirs --no-resave-data MOMA StartedAt: 2025-10-15 18:12:03 -0400 (Wed, 15 Oct 2025) EndedAt: 2025-10-15 18:15:10 -0400 (Wed, 15 Oct 2025) EllapsedTime: 187.8 seconds RetCode: 0 Status: OK PackageFile: MOMA_1.21.0.tar.gz PackageFileSize: 4.263 MiB