Package: MOMA Version: 1.21.0 Command: /Library/Frameworks/R.framework/Resources/bin/R CMD INSTALL MOMA StartedAt: 2025-09-29 15:13:06 -0400 (Mon, 29 Sep 2025) EndedAt: 2025-09-29 15:13:20 -0400 (Mon, 29 Sep 2025) EllapsedTime: 13.9 seconds RetCode: 0 Status: OK