Package: MOGAMUN Version: 1.19.0 Command: /home/biocbuild/R/R/bin/R CMD build --keep-empty-dirs --no-resave-data MOGAMUN StartedAt: 2025-10-21 01:23:58 -0000 (Tue, 21 Oct 2025) EndedAt: 2025-10-21 01:24:12 -0000 (Tue, 21 Oct 2025) EllapsedTime: 14.0 seconds RetCode: 0 Status: OK PackageFile: MOGAMUN_1.19.0.tar.gz PackageFileSize: 125.9 KiB