Package: MOGAMUN Version: 1.21.0 Command: /home/biocbuild/bbs-3.23-bioc/R/bin/R CMD INSTALL MOGAMUN StartedAt: 2025-11-20 15:13:01 -0500 (Thu, 20 Nov 2025) EndedAt: 2025-11-20 15:13:09 -0500 (Thu, 20 Nov 2025) EllapsedTime: 7.5 seconds RetCode: 0 Status: OK