Package: MOGAMUN Version: 1.21.0 Command: /home/biocbuild/bbs-3.23-bioc/R/bin/R CMD check --install=check:MOGAMUN.install-out.txt --library=/home/biocbuild/bbs-3.23-bioc/R/site-library --timings MOGAMUN_1.21.0.tar.gz StartedAt: 2025-11-21 01:35:39 -0500 (Fri, 21 Nov 2025) EndedAt: 2025-11-21 01:36:35 -0500 (Fri, 21 Nov 2025) EllapsedTime: 56.1 seconds RetCode: 0 Status: OK CheckDir: MOGAMUN.Rcheck Warnings: 0