Package: MOGAMUN Version: 1.19.0 Command: /Library/Frameworks/R.framework/Resources/bin/R CMD INSTALL MOGAMUN StartedAt: 2025-10-03 15:14:48 -0400 (Fri, 03 Oct 2025) EndedAt: 2025-10-03 15:15:03 -0400 (Fri, 03 Oct 2025) EllapsedTime: 14.5 seconds RetCode: 0 Status: OK